BEGIN:VCALENDAR
VERSION:2.0
PRODID:spatie/icalendar-generator
DESCRIPTION:Begivenheder fra STUDENTERKLUBBEN PÅ PANUM
X-WR-CALDESC:Begivenheder fra STUDENTERKLUBBEN PÅ PANUM
REFRESH-INTERVAL;VALUE=DURATION:PT1440M
X-PUBLISHED-TTL:PT1440M
BEGIN:VTIMEZONE
TZID:Etc/GMT-1
BEGIN:STANDARD
DTSTART:20250715T000000Z
TZOFFSETFROM:+0100
TZOFFSETTO:+0100
END:STANDARD
END:VTIMEZONE
BEGIN:VTIMEZONE
TZID:UTC
BEGIN:STANDARD
DTSTART:20250725T115329Z
TZOFFSETFROM:+0000
TZOFFSETTO:+0000
END:STANDARD
END:VTIMEZONE
BEGIN:VEVENT
UID:798-254
DTSTAMP:20260421T115329Z
SUMMARY:Udlånt
LOCATION:
ORGANIZER;CN=Udlaan:MAILTO:udlaan@studklub.dk
DTSTART;TZID=Etc/GMT-1;VALUE=DATE:20260411
DTEND;TZID=Etc/GMT-1;VALUE=DATE:20260412
X-ALT-DESC;FMTTYPE=TEXT/HTML:
CATEGORIES:General
URL;VALUE=URI:https://studklub.dk/mc-events/udlaant-105/
METHOD:PUBLISH
END:VEVENT
END:VCALENDAR