BEGIN:VCALENDAR
VERSION:2.0
PRODID:spatie/icalendar-generator
DESCRIPTION:Begivenheder fra STUDENTERKLUBBEN PÅ PANUM
X-WR-CALDESC:Begivenheder fra STUDENTERKLUBBEN PÅ PANUM
REFRESH-INTERVAL;VALUE=DURATION:PT1440M
X-PUBLISHED-TTL:PT1440M
BEGIN:VTIMEZONE
TZID:Etc/GMT-1
BEGIN:STANDARD
DTSTART:20250731T160000Z
TZOFFSETFROM:+0100
TZOFFSETTO:+0100
END:STANDARD
END:VTIMEZONE
BEGIN:VTIMEZONE
TZID:UTC
BEGIN:STANDARD
DTSTART:20250725T132240Z
TZOFFSETFROM:+0000
TZOFFSETTO:+0000
END:STANDARD
END:VTIMEZONE
BEGIN:VEVENT
UID:188-1
DTSTAMP:20260421T132240Z
SUMMARY:Mandagsmøde
LOCATION:Studenterklubben
ORGANIZER;CN=Magnus:MAILTO:Mrafner@gmail.com
RRULE:FREQ=WEEKLY;UNTIL=20321004T000000Z
DTSTART;TZID=Etc/GMT-1:20260427T160000
DTEND;TZID=Etc/GMT-1:20260427T170000
X-ALT-DESC;FMTTYPE=TEXT/HTML:
CATEGORIES:General
URL;VALUE=URI:https://studklub.dk/mc-events/mandagsmoede/?mc_id=188
METHOD:PUBLISH
END:VEVENT
END:VCALENDAR